{"text_format":"1","workbook":"xlsx","n_sheets":12,"sheets":["Title Page","Statement of profit or loss","Statement of financial position","Statement of cash flows","Russia","Armenia","Turkmenistan","Belarus","Group reconciliations","Debt repayment schedule","Ave Forex Rates","Glossary"],"not_rendered":{"charts":0,"images":2,"macros":1,"external_links":9,"defined_names":146,"comments":1,"pivot_tables":0},"unopened":[],"bounds":{"document_bytes":16777216,"sheet_cells":100000,"rows_first":2000,"rows_last":500,"rows_between":2000,"halvings":0,"cell_chars":16384,"cell_head_chars":4096},"cells_cut":0,"cells_raw":0,"read":"whole","date_system":"1900"}

{"sheet":"Title Page","index":0,"n_rows":20,"n_cols":4,"rows_kept":20,"cut":false,"hidden":false,"merged":[[20,1,20,6]]}
[]
[null,null,null,"Mobile TeleSystems"]
[]
[]
[null,"Contents"]
[]
[null,"1. MTS Group statement of profit or loss"]
[null,"2. MTS Group statement of financial position"]
[null,"3. MTS Group statement of cash flows "]
[null,"4. MTS Russia highlights"]
[null,"5. MTS Armenia highlights"]
[null,"6. MTS Turkmenistan highlights"]
[null,"7. MTS Belarus highlights"]
[null,"8. Group reconciliations"]
[null,"9. Debt repayment schedule"]
[null,"10. Average Forex rates"]
[null,"Glossary of terms"]
[]
[]
[null,"Disclaimer"]

{"sheet":"Statement of profit or loss","index":1,"n_rows":62,"n_cols":15,"rows_kept":62,"cut":false,"hidden":false,"merged":[[3,7,3,11],[3,2,3,6],[3,12,3,14]]}
[]
[null,"MOBILE TELESYSTEMS (NYSE: MBT)"]
[null,"CONDENSED UNAUDITED CONSOLIDATED STATEMENTS OF PROFIT OR LOSS"]
[null,null,2018,null,null,null,null,2019,null,null,null,null,2020]
[null,"(Amounts in millions of RUB, except share and per share amounts)","Q1","Q2","Q3","Q4","Full year","Q1","Q2","Q3","Q4","Full year","Q1","Q2","Q3"]
[]
[]
[null,"Service revenue",89009,93124,99948,100616,382698,95994,100606,104820,105419,406839,102948,103321,108604]
[null,"Sales of goods",13063,14041,20258,21406,68768,13839,15559,18225,21644,69267,16660,14409,20444]
[null,"Total revenue",102072,107165,120206,122022,451466,109833,116165,123045,127063,476106,119608,117730,129048]
[]
[null,"Cost of services",-23302,-25062,-28250,-28314,-104929,-27556,-29104,-29032,-29303,-114995,-29544,-30712,-30966]
[null,"Cost of goods",-11382,-13287,-18980,-19603,-63253,-12664,-14879,-17000,-19346,-63889,-15165,-13383,-18399]
[null,"Selling, general and administrative expenses",-18724,-20885,-20503,-23314,-83427,-20892,-22203,-22433,-25268,-90796,-22447,-20267,-21543]
[null,"Depreciation and amortization",-23394,-24020,-24046,-23926,-95386,-23598,-24155,-24058,-24468,-96279,-24701,-24651,-25353]
[null,"Other operating income / (expenses)",-565,713,1382,-631,900,972,118,811,-2591,-690,-2000,-2971,-913]
[null,"Operating share of the profit of associates",750,1085,974,989,3799,1033,1169,1298,1083,4583,1092,1167,1314]
[null,"Impairment of non-current assets",0,0,0,-149,-149,0,0,0,148,148,-319,-929,21]
[]
[null,"Operating profit",25455,25709,30783,27074,109021,27128,27111,32631,27318,114188,26524,25984,33209]
[]
[null,"Finance income",1136,1182,1298,1971,5587,1591,1110,923,732,4356,778,1189,685]
[null,"Finance costs",-9338,-8829,-7117,-11704,-36988,-10950,-12072,-12585,-11761,-47368,-10309,-10935,-9911]
[null,"Other income / (expenses)",1894,-1850,-875,330,-501,-836,-1512,960,-2915,-4303,5154,-1573,243]
[]
[null,"Profit before tax",19147,16212,24089,17671,77119,16933,14637,21929,13374,66873,22147,14665,24226]
[]
[null,"Income tax expense",-4579,-3472,-5943,-1401,-15395,-3744,-3146,-5677,-3183,-15750,-4629,-4604,-5673]
[]
[null,"Profit for the period from continuing operations",14568,12740,18146,16270,61724,13189,11491,16252,10191,51123,17518,10061,18553]
[]
[null,"Profit / (loss) after tax for the period from discontinued operation",960,1686,-54495,-2043,-53892,4634,1380,2415,-4453,3976,398,1838,440]
[]
[null,"Profit/(loss) for the period",15528,14426,-36349,14227,7832,17823,12871,18667,5738,55099,17916,11899,18993]
[]
[null,"Attributable to:"]
[null,"    Owners of the Company"]
[null,"       Profit / (loss) for the period from continuing operations",14461,12597,17477,16205,60740,12962,11326,15979,9998,50265,17342,9915,18380]
[null,"       Profit / (loss) for the period from discontinued operation",960,1686,-54495,-2043,-53892,4634,1380,2415,-4453,3976,398,1838,440]
[null,"       Profit/(loss) for the period attributable to owners of the Company",15421,14283,-37018,14162,6848,17596,12706,18394,5545,54241,17740,11753,18820]
[null,"    Non-controlling interests "]
[null,"       Profit for the period from continuing operations",107,143,669,65,984,227,165,273,193,858,176,146,173]
[null,"       Profit / (loss) for the period from discontinued operation",0,0,0,0,0,0,0,0,0,0,0,0,0]
[null,"       Profit for the period attributable to non-controlling interests",107,143,669,65,984,227,165,273,193,858,176,146,173]
[]
[null,"Weighted average number of common shares outstanding, in thousands - basic",1894606,1886217,1876421,1837425,1873563,1803301,1775144,1772885,1772834,1780935,1772872,1775872,1768850]
[null,"Earnings per share attributable to the Group - basic"]
[null,"EPS from continuing operations",7.63,6.68,9.31,8.82,32.42,7.19,6.38,9.01,5.64,28.22,9.7799999999999994,5.58,10.39]
[null,"EPS from discontinued operation",0.51,0.89,-29.04,-1.1100000000000001,-28.76,2.57,0.78,1.36,-2.5099999999999998,2.23,0.22,1.04,0.25]
[null,"Total EPS",8.14,7.5699999999999994,-19.729999999999997,7.71,3.66,9.76,7.16,10.37,3.13,30.45,10,6.62,10.64]
[]
[null,"Weighted average number of common shares outstanding, in thousands - diluted",1896110,1888336,1878142,1839147,1875721,1806020,1777557,1774499,1774448,1783617,1775359,1776964,1769693]
[null,"Earnings per share attributable to the Group - diluted"]
[null,"EPS from continuing operations",7.63,6.67,9.31,8.81,32.380000000000003,7.18,6.37,9,5.63,28.18,9.77,5.58,10.39]
[null,"EPS from discontinued operation",0.51,0.89,-29.02,-1.1100000000000001,-28.73,2.57,0.78,1.36,-2.5099999999999998,2.23,0.22,1.03,0.25]
[null,"Total EPS",8.14,7.56,-19.71,7.7,3.6500000000000021,9.75,7.15,10.36,3.12,30.41,9.99,6.61,10.64]
[]
[null,"Adjusted OIBDA**",48849,49729,54829,51149,204556,50726,51266,56689,51638,210319,51544,51564,58541]
[null,"Adjusted OIBDA margin",0.47899999999999998,0.46400000000000002,0.45600000000000002,0.41899999999999998,0.45300000000000001,0.46200000000000002,0.441,0.46100000000000002,0.40600000000000003,0.442,0.43099999999999999,0.438,0.45400000000000001]
[]
[null,"* Data were retrospectively adjusted on discontinued operation in Uzbekistan"]
[null,"**Adjusted OIBDA for 4Q 2018 and 2018 doesn't include a loss from impairment of non-current assets of RUB 149 mln.\nAdjusted OIBDA for 4Q 2019 and 2019 doesn't include a reversal of impairment of non-current assets of RUB 148 mln.\nAdjusted OIBDA for 1Q 2020, 2Q2020 doesn't include a loss from impairment of non-current assets of RUB 319 mln, RUB 929 mln, respectively. Adjusted OIBDA for 3Q 2020 doesn't include a reversal of impairment of non-current assets of RUB 21 mln. Adjusted OIBDA for 2020 doesn't include a loss from impairment of non-current assets of RUB 1 227 mln"]

{"sheet":"Statement of financial position","index":2,"n_rows":70,"n_cols":13,"rows_kept":70,"cut":false,"hidden":false,"merged":[[3,6,3,9],[3,2,3,5],[3,10,3,12]]}
[]
[null,"MOBILE TELESYSTEMS (NYSE: MBT)"]
[null,"CONDENSED UNAUDITED CONSOLIDATED STATEMENTS OF FINANCIAL POSITION"]
[null,null,2018,null,null,null,2019,null,null,null,2020]
[null,"(Amounts in millions of RUB, except share amounts)","Mar 31","Jun 30","Sep 30","Dec 31","Mar 31","Jun 30","Sep 30","Dec 31","Mar 31","Jun 30","Sep 30"]
[null,"NON-CURRENT ASSETS:"]
[null,"Property, plant and equipment",251944,256472,268493,276443,273276,276530,281187,265479,265507,267873,271877]
[null,"Investment property",420,732,5392,2177,2056,2798,3433,2986,2765,2596,2461]
[null,"Right-of-use assets",146011,150211,148588,149007,149458,149530,148095,138817,138826,133872,131404]
[null,"Intangible assets",126298,129582,129002,135069,132289,133947,134782,118404,120269,120306,123414]
[null,"Investments in associates",9466,11432,10475,10735,5503,5629,6632,6450,8467,8432,8739]
[null,"Deferred tax assets",6569,6509,9767,11190,11552,12404,13237,9975,10479,9985,10469]
[null,"Income tax assets",0,0,0,0,0,0,0,0,0,0,0]
[null,"Other non-financial assets",1748,1583,1660,5038,5173,4910,5290,4981,4989,5338,5540]
[null,"Other investments",1948,2073,19200,16873,16924,15576,14534,11195,11031,11007,11180]
[null,"Accounts receivable, related parties ",2,1127,2,2545,14154,14226,11854,10787,10924,11064,8399]
[null,"Bank loans to customers and interbank loans due from banks",null,null,27347,30653,32889,39954,47025,53472,52972,53390,59035]
[null,"Other financial assets",5057,4623,3072,7329,6532,5266,5734,6776,13540,9452,11417]
[null,"Total non-current assets",549463,564344,622998,647059,649806,660770,671803,629322,639769,633315,643935]
[]
[null,"CURRENT ASSETS:"]
[null,"Inventories",13318,17307,19832,18654,16678,14622,16499,15515,14778,18067,15970]
[null,"Trade and other receivables",27914,30001,27251,34543,35513,37015,37984,35595,38232,36591,36787]
[null,"Accounts receivable, related parties ",12704,12469,11312,6385,7686,5486,8315,5872,6708,5308,6919]
[null,"Bank loans to customers and interbank loans due from banks",null,null,37083,32385,32715,35933,38922,39370,48524,44371,49281]
[null,"Short-term investments",26354,52970,46354,47863,26588,15165,15700,25618,27886,25994,26547]
[null,"VAT receivable",6859,9060,9233,7415,8525,9335,11088,9350,9685,10504,9830]
[null,"Income tax assets",3504,2594,2417,3887,1847,5949,2560,4301,8837,3371,3215]
[null,"Assets held for sale",1416,1461,1262,2694,1085,663,623,497,422,493,331]
[null,"Advances paid and prepaid expenses, contract and other non-financial current assets",3616,4694,4551,5546,4625,4679,5179,5842,5113,5149,5456]
[null,"Other financial current assets",null,null,24059,25487,18957,22757,21068,14558,23084,21028,23405]
[null,"Cash and cash equivalents",56923,57292,101144,84075,66346,51243,52518,38070,101163,98253,82649]
[null,"Total current assets",152608,187848,284498,268934,220565,202847,210456,194588,284432,269129,260390]
[]
[null,"Total assets",702071,752192,907496,915993,870371,863617,882259,823910,924201,902444,904325]
[]
[null,"EQUITY:"]
[null,"Equity attributable to owners of the Company*",131608,109268,59742,65274,65958,36722,43574,33068,54065,27137,26451]
[null,"Non-controlling interests",4206,3242,12300,12291,4766,3816,4073,3326,3494,3641,3825]
[null,"Total equity",135814,112510,72042,77565,70724,40538,47647,36394,57559,30778,30276]
[]
[null,"NON-CURRENT LIABILITIES:"]
[null,"Borrowings",218400,249836,362082,365072,343966,308245,277209,271573,387862,396560,391435]
[null,"Lease obligation",135327,141472,142223,144740,147741,147722,146698,140080,142059,137099,136164]
[null,"Deferred tax liabilities",24405,23856,25754,24439,21528,21085,21670,17866,21684,20129,20764]
[null,"Provisions",2326,3529,3343,3391,4730,5187,5314,4761,4625,5213,4980]
[null,"Bank deposits and liabilities",null,null,9607,2633,2879,2930,1910,1805,1529,1514,1683]
[null,"Other financial liabilities",1530,770,1399,481,620,706,251,955,0,9,63]
[null,"Other non-financial liabilities",2823,2573,2460,2201,2103,2029,1983,2019,1984,1887,1887]
[null,"Total non-current liabilities",384811,422036,546868,542957,523567,487904,455035,439059,559743,562411,556976]
[]
[null,"CURRENT LIABILITIES:"]
[null,"Borrowings",72292,59973,13738,3063,42835,68739,98602,71746,35260,12022,23938]
[null,"Lease obligation",15876,15910,16046,15812,16345,17591,18063,15228,16482,16592,16778]
[null,"Provisions",12586,7890,65969,70911,14185,8815,9542,11526,14222,8750,9523]
[null,"Trade and other payables",42205,93160,55408,53623,48386,84300,65622,71808,51830,87463,69641]
[null,"Accounts payable, related parties ",1194,1940,1750,1301,601,909,1055,558,708,499,776]
[null,"Bank deposits and liabilities",null,null,98896,108821,105013,110569,137318,136147,145409,139271,153665]
[null,"Income tax liabilities",2656,1853,1441,1792,2380,1564,1841,784,1371,2075,1401]
[null,"Other financial liabilities",2017,2667,2812,4648,6023,1804,1381,1424,1285,1284,1309]
[null,"Other non-financial and contract liabilities",32620,34253,32526,35500,40312,40884,46153,39236,40332,41299,40042]
[null,"Total current liabilities",181446,217646,288586,295471,276080,335175,379577,348457,306899,309255,317073]
[]
[null,"Total equity and liabilities",702071,752192,907496,915993,870371,863617,882259,823910,924201,902444,904325]
[]
[null,"Net debt",{"$f":"'Group reconciliations'!C15","v":204137},{"$f":"'Group reconciliations'!D15","v":194491},{"$f":"'Group reconciliations'!E15","v":226878},{"$f":"'Group reconciliations'!F15","v":232771.86263600993},{"$f":"'Group reconciliations'!G15","v":292409},{"$f":"'Group reconciliations'!H15","v":310104},{"$f":"'Group reconciliations'!I15","v":306977},{"$f":"'Group reconciliations'!J15","v":280454},{"$f":"'Group reconciliations'!K15","v":284819},{"$f":"'Group reconciliations'!L15","v":282524},{"$f":"'Group reconciliations'!M15","v":302374}]
[null,"Net debt/LTM adjusted OIBDA",{"$f":"'Group reconciliations'!C24","v":1.1000000000000001},{"$f":"'Group reconciliations'!D24","v":1},{"$f":"'Group reconciliations'!E24","v":1.1000000000000001},{"$f":"'Group reconciliations'!F24","v":1.1000000000000001},{"$f":"'Group reconciliations'!G24","v":1.3},{"$f":"'Group reconciliations'!H24","v":1.4},{"$f":"'Group reconciliations'!I24","v":1.3},{"$f":"'Group reconciliations'!J24","v":1.3},{"$f":"'Group reconciliations'!K24","v":1.3},{"$f":"'Group reconciliations'!L24","v":1.3},{"$f":"'Group reconciliations'!M24","v":1.4}]
[]
[]
[null,"*Common stock: 1,998,381,575 shares issued with a par value of 0.1 rubles as of September 30, 2020  and 1,998,381,575 shares issued with a par value of 0.1 rubles as of June 30, 2020. Treasury stock: 246 889 580 common shares at cost as of September 30, 2020 and 227 483 749 common shares at cost as of June 30, 2020"]

{"sheet":"Statement of cash flows","index":3,"n_rows":97,"n_cols":15,"rows_kept":97,"cut":false,"hidden":false,"merged":[[3,2,3,5],[3,6,3,11],[3,12,3,14]]}
[]
[null,"MOBILE TELESYSTEMS (NYSE: MBT)"]
[null,"CONDENSED UNAUDITED CONSOLIDATED STATEMENTS OF CASH FLOWS"]
[null,null,2018,null,null,null,2019,null,null,null,null,null,2020]
[null,"(Amounts in millions of RUB)","Mar 31","Jun 30","Sep 30","Dec 31","Mar 31","Jun 30","Sep 30","Dec 31","Dec 31","Dec 31","Mar 31","Jun 30","Sep 30"]
[null,null,null,null,null,null,null,null,null,"Cash flows from discontinued operations","Cash flows from continuing operations","Total"]
[null,"CASH FLOWS FROM OPERATING ACTIVITIES:"]
[]
[null,"Profit for the period",15529,29953,-6397,7832,17821,30693,49359,3979,51120,55099,17916,29815,48808]
[]
[null,"Adjustments for:"]
[null,"Depreciation and amortization",25322,51608,78063,104588,26418,53393,80323,10669,96279,106948,24701,49352,74705]
[null,"Finance income",-1171,-2422,-3837,-5981,-1757,-2923,-3976,-449,-4356,-4805,-778,-1967,-2652]
[null,"Finance costs",9570,18680,26074,38165,11281,23736,36695,1344,47367,48711,10309,21244,31155]
[null,"Income tax expense",4750,8597,14817,16969,4136,7615,14076,1921,15750,17671,4629,9233,14906]
[null,"Net foreign exchange loss/gain and change in fair value of financial instruments",-1923,-949,-607,1507,660,233,-170,-3565,5349,1784,-5259,-3951,-4391]
[null,"Non-cash provision for investments"]
[null,"Share of the (profit) / loss of associates",-835,-1756,-2252,-2889,-4379,-5557,-6966,0,-8079,-8079,-1157,-2370,-3742]
[null,"Inventory obsolescence expense",369,1568,2288,3326,545,944,1510,18,2189,2207,304,658,834]
[null,"Allowance for doubtful accounts",871,1445,1937,3201,598,1313,2045,5,3426,3432,-386,1392,1805]
[null,"Bank reserves",null,null,236,493,711,1555,2637,0,4329,4329,2003,5347,7127]
[null,"Change in provisions",2723,-2041,-2391,-1473,2407,-3174,-2879,344,-39,305,2738,-2540,-1950]
[null,"Provision for fines and penalties related to SEC investigation into former operations in Uzbekistan",null,null,55752,55752,0,0,0,0,0,0,0,0,0]
[null,"Non-cash gain from reentrance into Uzbekistan"]
[null,"Other non-cash items",3,-797,-2036,-3479,-2747,-3426,-6343,-197,-6684,-6882,-473,-1903,-3241]
[null,"Loss on sale of Ukrain operations",null,null,null,null,null,null,null,5499,0,5499,0,-1967,-1967]
[null,"Impairment of non-current assets",null,null,null,149,0,0,0,0,-148,-148,319,1248,1227]
[null,"Non-cash loss on sale of subsidiary in Uzbekistan "]
[]
[null,"Movements in operating assets and liabilities:"]
[null,"(Increase)/Decrease in trade and other receivables and contract assets",-352,-2357,1108,438,-5518,-4859,-6476,-47,-3761,-3808,-443,1567,-843]
[null,"(Increase)/decrease in bank loans to customers and interbank loans to banks",null,null,-6686,-15367,-3599,-14444,-25907,0,-34452,-34452,-9841,-9919,-22346]
[null,"(Increase)/Decrease in inventory",-3667,-8812,-11498,-11292,1340,3017,634,-378,381,3,590,-2960,-885]
[null,"(Increase)/Decrease in VAT receivable",331,-1804,-1786,72,-1138,-1942,-3637,-47,-2475,-2522,-334,-1141,-466]
[null,"(Increase)/Decrease in advances paid and prepaid expenses",569,482,1397,1429,5601,1975,2839,-55,3533,3478,626,-5265,-4908]
[null,"Increase/(Decrease) in trade and other payables, contract liabilities and other liabilities",-8042,-857,-3262,-59,2086,2349,9160,845,5980,6825,1369,2274,1383]
[null,"Increase/(Decrease) in bank deposits and other bank liabilities",null,null,1806,4100,-2257,3160,28718,0,27823,27823,6112,1141,13823]
[null,"Payment of fines and penalties related to SEC investigation into former operations in Uzbekistan",null,null,null,null,-55607,-55607,-55607,0,-55607,-55607,0,0,0]
[null,"Dividends received",874,1674,2525,3726,749,2250,2525,0,3707,3707,268,651,1791]
[null,"Income taxes paid",-5201,-9772,-14979,-19777,-5220,-14727,-17667,-1607,-22336,-23943,-5311,-4753,-10769]
[null,"Interest received",4774,5919,7052,10016,1900,3351,4238,341,4922,5263,292,1276,1668]
[null,"Interest paid, net of interest capitalised",-8799,-18297,-27103,-37056,-10124,-24066,-34879,-1278,-44908,-46186,-8690,-21895,-31945]
[null,"NET CASH PROVIDED BY OPERATING ACTIVITIES",35695,70062,110221,154390,-16093,4859,70252,17342,89310,106652,39504,64567,109127]
[]
[]
[null,"CASH FLOWS FROM INVESTING ACTIVITIES:"]
[]
[null,"Aquisition of subsidiary, net of cash acquired",-3286,-3093,-3458,-3444,-1639,-2030,-2052,0,-2052,-2052,0,69,-262]
[null,"Purchases of property, plant and equipment",-13096,-27753,-44660,-64731,-12457,-27513,-45000,-6140,-62325,-68465,-14361,-28053,-44588]
[null,"Purchases of other intangible assets (excl. cost to obtain contracts)",-3574,-6484,-10758,-21751,-4157,-11781,-16087,-2022,-20994,-23016,-5844,-12757,-19594]
[null,"Cost to obtain and fulfill contracts, paid",-1099,-2085,-3524,-4764,-1093,-2307,-3692,-299,-4352,-4651,-1188,-2337,-3745]
[null,"Purchase of 3G and 4G licenses in Ukraine, Russia and Armenia",-1366,-5527,-5527,-5527,0,-23,-255,0,-255,-255,0,0,0]
[null,"Purchase of Avantage",null,null,-7559,-7559,0,0,0,0,0,0,0,-196,-196]
[null,"Proceeds from sale of property, plant and equipment and assets held for sale",442,2289,3924,5905,1040,2903,5067,122,6414,6536,782,2504,4897]
[null,"Purchases of short-term  and other investments",-3280,-29404,-16389,-18754,-5177,-11812,-14862,-3326,-19388,-22714,-2730,-5350,-7306]
[null,"Proceeds from sale of short-term and other investments",23243,24112,34503,38596,24410,37959,41842,2799,44340,47139,2794,7297,10478]
[null,"Investments in associates",-1158,-2101,-3871,-3871,0,0,0,0,-75,-75,-1415,-1415,-1460]
[null,"Cash payments and proceeds related to swap contracts",-424,49,6001,6892,-1039,-740,-781,0,-2459,-2459,3722,7325,5236]
[null,"Proceeds from sale of subsidiaries",null,null,null,619,0,0,0,-4181,41567,37386,0,0,2998]
[null,"Proceeds from sale of associates",null,null,null,null,3000,3000,3067,0,3067,3067,0,2450,2450]
[null,"Other investing activities",-272,0,0,0,0,5,5,0,5,5,0,0,0]
[null,"Disposal of discontinued operation, net of cash disposed of"]
[null,"NET CASH USED IN INVESTING ACTIVITIES:",-3870,-49997,-51318,-78389,2888,-12339,-32748,-13047,-16507,-29554,-18240,-30463,-51092]
[]
[]
[null,"CASH FLOWS FROM FINANCING ACTIVITIES:"]
[null,"Repayment of notes",0,-8305,-17225,-27983,0,0,-189,0,-189,-189,-9277,-30210,-28127]
[null,"Proceeds from issuance of notes",20000,27550,27550,27550,10000,22500,47500,0,72500,72500,15000,46757,46757]
[null,"Repurchase of common stock",-7660,-7660,-14583,-22655,-10365,-15899,-15922,0,-15922,-15922,0,-1088,-7613]
[null,"Notes and debt issuance cost paid",-33,-39,-39,-39,-22,-51,-71,-1050,939,-111,-18,-106,-106]
[null,"Lease obligation principal paid",-3226,-6844,-9483,-13577,-3552,-7348,-11240,0,-15154,-15154,-3920,-7506,-11458]
[null,"Dividends paid",-2,-2,-45244,-50054,-1,-2,-36541,0,-52505,-52505,-22917,-22918,-59346]
[null,"Cash flows from transactions under common control",0,0,-6872,-13242,-11484,-13520,-13866,-64,-15248,-15312,0,0,0]
[null,"Proceeds from loans",0,20000,95000,95000,12413,1013,52872,0,62415,62415,105235,106047,108414]
[null,"Repayment of loans",-13748,-19170,-19106,-20076,-25,-10525,-90704,0,-156511,-156511,-43294,-63585,-63859]
[null,"Cash inflow under credit guarantee agreement related to foreign-currency hedge",-981,-981,-981,-981,0,0,0,0,0,0,0,0,0]
[null,"Other financing activities",-33,123,121,133,0,0,342,0,341,341,"-",0,"-"]
[null,"NET CASH USED IN FINANCING ACTIVITIES",-5683,4672,9138,-25924,-3036,-23832,-67819,-1114,-119334,-120448,40809,27391,-15338]
[]
[]
[null,"Effect of exchange rate changes on cash and cash equivalents ",195,1969,2517,3412,-1488,-1520,-1242,-385,-2270,-2655,1020,-1312,1882]
[null,"Intercompany cash flows",null,null,null,null,null,null,null,-9460,9460]
[]
[null,"NET INCREASE / (DECREASE) IN CASH AND CASH EQUIVALENTS:",26337,26706,70558,53489,-17729,-32832,-31557,-6664,-39341,-46005,63093,60183,44579]
[]
[null,"CASH AND CASH EQUIVALENTS, beginning of the period",30586,30586,30586,30586,84075,84075,84075,6664,77411,84075,38070,38070,38070]
[]
[null,"CASH AND CASH EQUIVALENTS, end of the period",56923,57292,101144,84075,66346,51243,52518,0,38070,38070,101163,98253,82649]
[null,"Less cash and cash equivalents within assets held for sale"]
[null,"CASH AND CASH EQUIVALENTS, end of the period",56923,57292,101144,84075,66346,51243,52518,0,38070,38070,101163,98253,82649]
[]
[null,"CAPEX (for the quarter)",{"$f":"-SUM(C49:C50, C52)","v":18036},{"$f":"-SUM(D49:D50, D52)+SUM(C49:C50, C52)","v":21728},{"$f":"-SUM(E49:E50, E52)+SUM(D49:D50, D52)","v":21181},{"$f":"-SUM(F49:F50, F52)+SUM(E49:E50, E52)","v":31064},{"$f":"-SUM(G49:G50, G52)","v":16614},{"$f":"-SUM(H49:H50, H52)+SUM(G49:G50, G52)","v":22703},{"$f":"-SUM(I49:I50, I52)+SUM(H49:H50, H52)","v":22025},null,null,{"$f":"-SUM(L49:L50, L52)+SUM(I49:I50, I52)","v":30394},{"$f":"-SUM(M49:M50, M52)","v":20205},{"$f":"-SUM(N49:N50, N52)+SUM(M49:M50, M52)","v":20605},{"$f":"-SUM(O49:O50, O52)+SUM(N49:N50, N52)","v":23372}]
[null,"CAPEX excluding purchases of 3G, 4G license in Ukraine and Russia and net of cash proceeds under sharing agreement (for the quarter)",16637,17567,21181,31064,16396,22666,21771,null,null,29853,20205,20116,23372]
[null,"CAPEX as % of Revenue*","n/a","n/a","n/a","n/a","n/a","n/a","n/a",null,null,"n/a",0.16900000000000001,0.17086553979444491,0.18099999999999999]
[null,"Cost to obtain and fulfill contracts",{"$f":"-C51","v":1099},{"$f":"-D51+C51","v":986},{"$f":"-E51+D51","v":1439},{"$f":"-F51+E51","v":1240},{"$f":"-G51","v":1093},{"$f":"-H51+G51","v":1214},{"$f":"-I51+H51","v":1385},null,null,{"$f":"-L51+I51","v":959},{"$f":"-M51","v":1188},{"$f":"-N51+M51","v":1149},{"$f":"-O51+N51","v":1408}]
[]
[null,"FCF",13924,30835,{"$f":"'Group reconciliations'!E50","v":40315},{"$f":"'Group reconciliations'!F50","v":54794},{"$f":"'Group reconciliations'!G50","v":-31399},{"$f":"'Group reconciliations'!H50","v":-32869},{"$f":"'Group reconciliations'!I50","v":11555},null,null,{"$f":"'Group reconciliations'!J50","v":55382},{"$f":"'Group reconciliations'!K50","v":17478},{"$f":"'Group reconciliations'!L50","v":24832},49627]

{"sheet":"Russia","index":4,"n_rows":78,"n_cols":15,"rows_kept":78,"cut":false,"hidden":false,"merged":[[1,2,1,6],[1,7,1,11],[1,12,1,14]]}
[]
[null,"Country highlights:",2018,null,null,null,null,2019,null,null,null,null,2020]
[null,"Russia","Q1","Q2","Q3","Q4","Full year","Q1","Q2","Q3","Q4","Full year","Q1","Q2","Q3"]
[]
[null,"RUB/USD",58.41,61.8,65.5,66.5,62.71,66.13,64.56,64.569999999999993,63.72,{"$f":"K5","v":63.72},66.38,{"$f":"'Ave Forex Rates'!O5","v":72.36},{"$f":"'Ave Forex Rates'!P5","v":73.56}]
[]
[null,"Amounts in millions of RUB, unless stated"]
[null,"Total revenue",101050,106391,119130,121512,448083,109073,115322,121947,126215,472557,118142,116275,127363]
[null,"Service revenue",87956,92295,98847,99811,378909,95133,99728,103824,104481,403166,101616,101912,107026]
[null,"- mobile",74313,78358,80719,79259,312649,75397,79685,83140,81845,320067,80586,81213,85610]
[null,"- fixed line",15061,15177,14882,15281,60401,15076,14997,14982,15049,60104,15287,15777,15236]
[null,"- Bank revenue",0,0,5551,6300,11851,6299,6850,7646,9042,29837,8330,8012,8828]
[null,"- integration",1377,1519,1832,2664,7392,2278,2690,2654,2667,10289,2526,3230,3160]
[null,"- event ticketing, eSport and other",237,201,229,602,1269,313,215,280,721,1529,315,86,106]
[null,"- eliminations",-3032,-2960,-4366,-4295,-14653,-4230,-4709,-4878,-4843,-18660,-5428,-6406,-5914]
[null,"Sales of goods",13094,14096,20283,21701,69174,13940,15594,18123,21734,69391,16526,14363,20337]
[null,"- sales of handsets and accessories",11088,12275,17049,19433,59845,12514,12354,16438,17589,58895,13278,11933,16915]
[null,"- sales of software products",2006,1821,3234,2268,9329,1426,3240,1685,4145,10496,3248,2430,3422]
[null,"Operating profit",25345.668736190994,25731.839960385285,30426.424374440889,27672.030049550016,109175.96312056718,27033.936397871952,26748.761973778164,32029.815362279769,27082.01482302431,112894.52855695419,26088,25326,32334]
[null,"- operating margin, %",0.251,0.24199999999999999,0.255,0.22800000000000001,0.24399999999999999,0.248,0.23200000000000001,0.26300000000000001,0.215,0.23899999999999999,0.221,0.218,0.254]
[null,"Depreciation and amortization",22816,23360,23420,23235,92831,22969,23510,23420,24014,93913,24269,24170,24825]
[null,"- as % of revenue",0.22600000000000001,0.22,0.19700000000000001,0.191,0.20699999999999999,0.21099999999999999,0.20399999999999999,0.192,0.19,0.19900000000000001,0.20499999999999999,0.20799999999999999,0.19500000000000001]
[null,"Adjusted OIBDA **",48161.668736190994,49092.839960385281,53845.424374440889,51078.030049550012,202177.96312056718,50002.936397871948,50259.761973778164,55448.815362279769,51099.014823024307,206810.5285569542,50699,50435,57159]
[null,"Adjusted OIBDA margin, %",0.47699999999999998,0.46100000000000002,0.45200000000000001,0.42,0.45100000000000001,0.45800000000000002,0.436,0.45500000000000002,0.40500000000000003,0.438,0.42899999999999999,0.434,0.44900000000000001]
[null,"Net profit",14232.696267190826,13067.757445528054,17064.339863974987,17504.839555122733,61869.633131816598,17976.272571259353,10969.606911489573,15426.140883941034,47515.976233073474,91887.996599763428,16896,11154,17751]
[null,"- margin, %",0.14099999999999999,0.123,0.14299999999999999,0.14399999999999999,0.13800000000000001,0.16500000000000001,9.5000000000000001E-2,0.126,0.376,0.19400000000000001,0.14299999999999999,9.6000000000000002E-2,0.13900000000000001]
[null,"CAPEX",15367,15492,18437,25845,75141,14499,20557,19108,27647,81811,19929,20190,23004]
[null,"CAPEX excluding purchases of 4G license and net of sharing",15334,15492,18437,25845,75108,14281,20543,19086,27106,81016,19929,19701.359135621798,23004]
[null,"- as % of revenue",0.152,0.14599999999999999,0.155,0.21299999999999999,0.16800000000000001,0.13100000000000001,0.17799999999999999,0.157,0.215,0.17100000000000001,0.16900000000000001,0.16900000000000001,0.18099999999999999]
[null,"Cost to obtain and fulfill contracts",1042,932,1385,1240,4599,1024,1147,1304,877,4352,1188,1149,1408]
[]
[null,"MTS-Bank"]
[null,"Amounts in millions of RUB, unless otherwise indicated"]
[null,"Revenue",null,null,5551,6300,11851,6299,6850,7646,9042,29837,8498,8209,8956]
[null,"OIBDA",null,null,1428,410,1838,24,1406,941,835,3206,404,-811,1561]
[null,"OIBDA margin, %",null,null,0.25700000000000001,6.5000000000000002E-2,0.155,4.0000000000000001E-3,0.20499999999999999,0.123,9.1999999999999998E-2,0.107,4.8000000000000001E-2,"n/a",0.17399999999999999]
[null,"Net profit",null,null,613,-143,470,288,70,717,244,1319,214,-1138,1175]
[null,"- margin, %",null,null,0.111,-2.3E-2,0.04,4.5999999999999999E-2,0.01,9.4E-2,2.7E-2,4.3999999999999997E-2,2.5000000000000001E-2,"n/a",0.13100000000000001]
[null,"Total retail loan portfolio at the end of the period, mln RUB",null,null,43077,52479,52479,58761,67038,79733,90684,90684,98104,99281,107196]
[]
[null,"MTS-bank, operating highlights"]
[null,"MTS Bank clients, thou",null,null,null,null,null,2213,2267,2307,2382,2382,2460,2385,2413]
[null,"    o/w daily banking clients",null,null,null,null,null,1584,1586,1509,1515,1589,1589,1541,1557]
[null,"MTS Bank mobile app users, thou",null,null,null,null,null,597.03099999999995,649,753,910,910,1024,1025,1090.173]
[]
[null,"Telecom operating highlights"]
[null,"Mobile business"]
[null,"MTS subscribers, mln",78.099999999999994,78.099999999999994,77.959999999999994,78.010000000000005,78.010000000000005,77.599999999999994,78.099999999999994,78.8,79.099999999999994,79.099999999999994,78.5,77.2,78.2]
[null,"Total traffic, bln minutes",88.2,93.2,91.4,93,365.8,87.9,91.3,91.6,92.1,362.9,88.6,95.1,95.15]
[null,"Total smartphone data, Tb",616816,665208,751864,866118,2900006,927772,1009399,1160004,1299398,4396573,1396821,1449143,1555430]
[]
[null,"Fixed business"]
[null,"Residential"]
[null,"Number of subscribers, thou"]
[null,"- fixed telephony",3160,3124,3081,3028,3028,2971,2920.0430000000001,2890.7489999999998,2836.4769999999999,2836.4769999999999,2790,2765,2716]
[null,"- internet",3100,3145,3182,3246,3246,3316,3349.556,3372.567,3481,3481,3559,3659,3758]
[null,"- TV",2830,2835,2853,2901,2901,2934,2947.9279999999999,2970.9929999999999,3007,3007,3065,3144,3207]
[null,"MGTS (B2C+B2B)"]
[null,"- GPON subs, thou",1875,1894,1915,1948,1948,1979,1996,2043,2077,2077,2111.165,2137,2161.9769999999999]
[]
[null,"Media, operating highlights"]
[null,"Number of TV users, thou",null,null,null,null,null,4424.9980000000005,4594.7749999999996,4473.9989999999998,4569.6350000000002,4569.6350000000002,4591.6219999999994,4908,5631]
[null,"     o/w interactive TV users, thou",null,null,null,null,null,1908.3209999999999,2010.5250000000001,1848.7670000000001,1846.6569999999999,1846.6569999999999,1827.5329999999999,2050,2675]
[null,"    o/w OTT services users, thou",null,null,null,null,null,1205.8579999999999,1291.317,1090.6880000000001,1053.912,1053.912,1001.667,1192,1778]
[]
[null,"Other operating highlights"]
[null,"Mobile Internet indicators"]
[null,"Mobile Internet users penetration, as % from monthly active users",0.54100000000000004,0.55400000000000005,0.56999999999999995,0.58799999999999997,0.58799999999999997,0.59799999999999998,0.61250000000000004,0.622,0.629,0.629,0.63500000000000001,0.63700000000000001,0.64600000000000002]
[null,"Smartphones penetration, as % of all registered mobile phones on MTS network*",0.65900000000000003,0.67400000000000004,0.68900000000000006,0.70099999999999996,0.70099999999999996,0.71299999999999997,0.72499999999999998,0.73299999999999998,0.745,0.745,0.76100000000000001,0.77100000000000002,0.77800000000000002]
[]
[null,"Client relationship"]
[null,"My MTS, MAU, thou",10995,11967.761,13165.31,14134.424000000001,14134.424000000001,15358.609,17706.466,19514.946,20342.424999999999,20342.424999999999,21916.17,22287,23308.705000000002]
[null,"MTS Cashback registered users, thou",null,null,null,null,null,2712.8710000000001,3519.8009999999999,4086.2049999999999,5047.8059999999996,5047.8059999999996,5691.1940000000004,6132,8405.8850000000002]
[null,"Music services users (incl. partners), thou",null,null,null,null,null,1021.629,1141.748,1139.2950000000001,1124.9359999999999,1124.9359999999999,1005.251,"           975 ",924]
[null,"Number of tickets sold at MTS, thou",null,null,null,null,null,1283,862,1064,2475,{"$f":"SUM(H75:K75)","v":5684},1332,"            (54)",293.53699999999998]
[null,"E-commerce"]
[null,"Online sales, mln",1361,1537,2085,2008,6991,1548,1707,2116,2673,8044,2557,3558,3730]
[null,"Unless stated otherwise, client numbers and app users are calculated based on any account activity over the last 3 months\n* MTS defines a smartphone as a handset with one of the following operating systems: iOS, Android, Windows, Blackberry OS, Symbian, Linux or Bada. \n** Adjusted OIBDA for 4Q 2018 and 2018 doesn't include a loss from impairment of non-current assets of RUB 172 mln.\nAdjusted OIBDA for 1Q 2020, 2Q2020 and 2020 doesn't include a loss from impairment of non-current assets of RUB 342 mln, RUB 938 mln and RUB 1 270 mln, respectively.\n"]

{"sheet":"Armenia","index":5,"n_rows":40,"n_cols":15,"rows_kept":40,"cut":false,"hidden":false,"merged":[[1,2,1,6],[1,7,1,11],[1,12,1,14]]}
[]
[null,"Country highlights:*",2018,null,null,null,null,2019,null,null,null,null,2020]
[null,"Armenia","Q1","Q2","Q3","Q4","Full year","Q1","Q2","Q3","Q4","Full year","Q1","Q2","Q3"]
[]
[null,"Amounts in millions of RUB, unless stated"]
[null,"Revenue",1612,1827,2037,2053,7529,1811,1850,1996,1970,7627,1768,1763,2028]
[null,"Operating profit",183,150,370,92,795,157,255,374,396,1182,411,407,575]
[null,"- operating margin, %",0.114,8.199999999999999E-2,0.182,4.4000000000000004E-2,0.106,8.6999999999999994E-2,0.13800000000000001,0.188,0.20100000000000001,0.155,0.23300000000000001,0.23100000000000001,0.28300000000000003]
[null,"Depreciation and amortization",589,670,637,677,2573,630,657,649,510,2446,433,483,517]
[null,"- as % of revenue",0.36499999999999999,0.36700000000000005,0.312,0.33,0.34200000000000003,0.34799999999999998,0.35499999999999998,0.32500000000000001,0.25900000000000001,0.32100000000000001,0.245,0.27399999999999997,0.255]
[null,"Adjusted OIBDA**",772,821,1006,769,3368,788,911,1023,906,3628,844,890,1092]
[null,"Adjusted OIBDA margin, %",0.47899999999999998,0.44900000000000001,0.49399999999999999,0.374,0.44700000000000001,0.435,0.49200000000000005,0.51300000000000001,0.46,0.47600000000000003,0.47700000000000004,0.505,0.53799999999999992]
[null,"Net profit",113,-250,448,-958,-647,-1673,64,342,372,-895,578,143,532]
[null,"- margin, %",7.0000000000000007E-2,"n/a",0.22,"n/a","n/a","n/a",3.5000000000000003E-2,0.17100000000000001,0.18899999999999997,"n/a",0.32700000000000001,8.1000000000000003E-2,0.26200000000000001]
[null,"CAPEX",80,81,275,1550,1986,103,255,511,890,1759,276,416,366]
[null,"CAPEX excluding purchases of 4G licenses",80,81,275,1550,1986,103,232,279,890,1504,276,416,366]
[null,"- as % of revenue",0.05,4.4000000000000004E-2,0.13500000000000001,0.755,0.26400000000000001,5.7000000000000002E-2,0.126,0.14000000000000001,0.45200000000000001,0.19699999999999998,0.156,0.23600000000000002,0.18100000000000002]
[]
[null,"Operating highlights"]
[null,"Mobile business"]
[null,"MTS subscribers, mln",2100,2107.6,2152.4,2128.1,2128.1,2119,2149,2217.1999999999998,2207.4,2207.4,2162.8000000000002,2057.5,2106.3000000000002]
[null,"Total traffic, bln minutes",3534,3781,3851,3827,14993,3631,3947,4045,4022,15645,3835,4182,4485]
[]
[null,"AMD/RUB",8.4700000000000006,7.82,{"$f":"'Ave Forex Rates'!F8","v":7.37},{"$f":"'Ave Forex Rates'!G8","v":7.3},{"$f":"'Ave Forex Rates'!H8","v":7.74},{"$f":"'Ave Forex Rates'!I8","v":7.37},{"$f":"'Ave Forex Rates'!J8","v":7.45},{"$f":"'Ave Forex Rates'!K8","v":7.38},{"$f":"'Ave Forex Rates'!L8","v":7.49},{"$f":"'Ave Forex Rates'!M8","v":7.42},{"$f":"'Ave Forex Rates'!N8","v":7.31},{"$f":"'Ave Forex Rates'!O8","v":6.7},{"$f":"'Ave Forex Rates'!P8","v":6.61}]
[]
[null,"Amounts in millions of AMD, unless stated"]
[null,"Revenue",13647,14275,15008,14985,57915,13348,13782,14724,14760,56614,12892,11817,13384]
[null,"Operating profit",1547,1159,2738,689,6133,1147,1895,2763,2970,8775,2988,2725,3789]
[null,"- operating margin, %",0.113,8.1000000000000003E-2,0.182,4.5999999999999999E-2,0.106,8.5999999999999993E-2,0.13699999999999998,0.188,0.20100000000000001,0.155,0.23199999999999998,0.23100000000000001,0.28300000000000003]
[null,"Depreciation and amortization",4985,5241,4689,4946,19861,4645,4892,4787,3818,18142,3154,3240,3412]
[null,"- as % of revenue",0.36499999999999999,0.36700000000000005,0.312,0.33,0.34299999999999997,0.34799999999999998,0.35499999999999998,0.32500000000000001,0.25900000000000001,0.32,0.245,0.27399999999999997,0.255]
[null,"Adjusted OIBDA**",6532,6400,7427,5636,25995,5792,6787,7550,6788,26917,6141,5966,7201]
[null,"Adjusted OIBDA margin, %",0.47899999999999998,0.44799999999999995,0.495,0.376,0.44900000000000001,0.434,0.49200000000000005,0.51300000000000001,0.46,0.47499999999999998,0.47600000000000003,0.505,0.53799999999999992]
[null,"Net profit",956,-1928,3279,-6868,-4561,-12554,477,2526,2791,-6760,4074,995,3510]
[null,"- margin, %",7.0000000000000007E-2,"n/a",0.218,"n/a","n/a","n/a",3.5000000000000003E-2,0.17199999999999999,0.18899999999999997,"n/a",0.316,8.4000000000000005E-2,0.26200000000000001]
[null,"CAPEX",675,634,2047,11275,14631,765,1902,3796,6707,13170,1870,2789,2457]
[null,"CAPEX excluding purchases of 4G licenses",675,634,2047,11275,14631,765,1732,2046,6707,11250,1870,2789,2457]
[null,"- as % of revenue",4.9000000000000002E-2,4.4000000000000004E-2,0.13600000000000001,0.752,0.253,5.7000000000000002E-2,0.126,0.13900000000000001,0.45399999999999996,0.19899999999999998,0.14499999999999999,0.23600000000000002,0.184]
[]
[null,"*Due to the rounding and translation practices, Russian rubles and functional currency margins, as well as other non-IFRS financial measures, may differ."]

{"sheet":"Turkmenistan","index":6,"n_rows":41,"n_cols":15,"rows_kept":41,"cut":false,"hidden":false,"merged":[[38,1,39,1],[1,2,1,6],[1,7,1,11],[1,12,1,14]]}
[]
[null,"Country highlights:*",2018,null,null,null,null,2019,null,null,null,null,2020]
[null,"Turkmenistan","Q1","Q2","Q3","Q4","Full year","Q1","Q2","Q3","Q4","Full year","Q1","Q2","Q3"]
[]
[null,"Amounts in millions of RUB, unless stated"]
[null,"Revenue",0,0,0,0,0,0,0,0,0,0,0,0,0]
[null,"Operating profit",-136,-142,-72,-464,-814,-86,14,-25,-114,-211,9,-4,3]
[null,"- operating margin, %","n/a","n/a","n/a","n/a","n/a","n/a","n/a","n/a","n/a","n/a","n/a","n/a","n/a"]
[null,"Depreciation and amortization",0,0,0,0,0,0,0,0,0,0,0,0,0]
[null,"- as % of revenue","n/a","n/a","n/a","n/a","n/a","n/a","n/a","n/a","n/a","n/a","n/a","n/a","n/a"]
[null,"Adjusted OIBDA**",-136,-142,-72,-464,-814,-86,14,-25,-114,-211,-14,-14,-19]
[null,"Adjusted OIBDA margin, %","n/a","n/a","n/a","n/a","n/a","n/a","n/a","n/a","n/a","n/a","n/a","n/a","n/a"]
[null,"Net profit",-32,-134,-67,-461,-694,-82,10,-24,37,-59,9,-4,3]
[null,"- margin, %","n/a","n/a","n/a","n/a","n/a","n/a","n/a","n/a","n/a","n/a","n/a","n/a","n/a"]
[null,"CAPEX",1,6,2,5,14,1,1,1,0,3,0,0,0]
[null,"- as % of revenue","n/a","n/a","n/a","n/a","n/a","n/a","n/a","n/a","n/a","n/a","n/a","n/a","n/a"]
[]
[null,"Operating highlights"]
[null,"Mobile business"]
[null,"MTS subscribers, thous","n/a","n/a","n/a","n/a","n/a","n/a","n/a","n/a","n/a","n/a","n/a","n/a","n/a"]
[null,"Total traffic, mln minutes","n/a","n/a","n/a","n/a","n/a","n/a","n/a","n/a","n/a","n/a","n/a","n/a","n/a"]
[]
[null,"TMT/RUB",{"$f":"'Ave Forex Rates'!D7","v":0.06},{"$f":"'Ave Forex Rates'!E7","v":5.7000000000000002E-2},{"$f":"'Ave Forex Rates'!F7","v":0.05},{"$f":"'Ave Forex Rates'!G7","v":0.05},{"$f":"'Ave Forex Rates'!H7","v":0.06},{"$f":"'Ave Forex Rates'!I7","v":0.05},{"$f":"'Ave Forex Rates'!J7","v":0.05},{"$f":"'Ave Forex Rates'!K7","v":5.3999999999999999E-2},{"$f":"'Ave Forex Rates'!L7","v":5.5E-2},{"$f":"'Ave Forex Rates'!M7","v":5.3999999999999999E-2},{"$f":"'Ave Forex Rates'!N7","v":5.2999999999999999E-2},{"$f":"'Ave Forex Rates'!O7","v":4.8000000000000001E-2},{"$f":"'Ave Forex Rates'!P7","v":4.8000000000000001E-2}]
[]
[null,"Amounts in millions of TMT, unless stated"]
[null,"Revenue",0,0,0,0,0,0,0,0,0,0,0,0,0]
[null,"Operating profit",-8.4,-8,-3.8,-24.3,-44.5,-4.5,0.7,-1.3,-6.4,0,0.5,-0.2,0.2]
[null,"- operating margin, %","n/a","n/a","n/a","n/a","n/a","n/a","n/a","n/a","n/a","n/a","n/a","n/a","n/a"]
[null,"Depreciation and amortization",0,0,0,0,0,0,0,0,0,0,0,0,0]
[null,"- as % of revenue","n/a","n/a","n/a","n/a","n/a","n/a","n/a","n/a","n/a","n/a","n/a","n/a","n/a"]
[null,"Adjusted OIBDA**",-8.4,-8,-3.8,-24.3,-44.5,-4.5,0.7,-1.3,-6.4,0,-0.7,-0.7,-0.9]
[null,"Adjusted OIBDA margin, %","n/a","n/a","n/a","n/a","n/a","n/a","n/a","n/a","n/a","n/a","n/a","n/a","n/a"]
[null,"Net profit",-2,-7.6,-3.5,-24.2,-37.299999999999997,-4.4000000000000004,0.6,-1.3,2.1,0,0.5,-0.2,0.2]
[null,"- margin %","n/a","n/a","n/a","n/a","n/a","n/a","n/a","n/a","n/a","n/a","n/a","n/a","n/a"]
[null,"CAPEX",0.1,0.4,0.1,0.2,0.8,0,0,0.1,0,0.2,0,0,0]
[null,"- as % of revenue","n/a","n/a","n/a","n/a","n/a","n/a","n/a","n/a","n/a","n/a","n/a","n/a","n/a"]
[]
[]
[null,"*Due to the rounding and translation practices, Russian rubles and functional currency margins, as well as other non-IFRS financial measures, may differ."]
[]
[null,"Adjusted OIBDA for 1Q 2020, for 2Q 2020, for 3Q 2020 and 2020 doesn't include a reversal of impairment of non-current assets of RUB 23 mln, RUB 10 mln, 21 and RUB 54 mln, respectively."]

{"sheet":"Belarus","index":7,"n_rows":43,"n_cols":15,"rows_kept":43,"cut":false,"hidden":false,"merged":[[1,7,1,11],[1,2,1,6],[40,1,41,1],[42,1,43,1],[1,12,1,14]]}
[]
[null,"Country highlights:*",2018,null,null,null,null,2019,null,null,null,null,2020]
[null,"Belarus**","Q1","Q2","Q3","Q4","Full year","Q1","Q2","Q3","Q4","Full year","Q1","Q2","Q3"]
[]
[null,"Amounts in millions of RUB, unless stated"]
[null,"Revenue",5662,6569,7553,7911,27695,7259,7756,8633,8944,32592,8329,8542,9356]
[null,"Operating profit",2060,2566,3126,2659,10411,2773,2973,3413,3131,12290,3156,3328,3663]
[null,"- operating margin, %",0.36399999999999999,0.39100000000000001,0.41399999999999998,0.33600000000000002,0.376,0.38200000000000001,0.38299999999999995,0.39500000000000002,0.35,0.377,0.379,0.39,0.39100000000000001]
[null,"Depreciation and amortization",1051,1130,1266,1235,4682,1169,1214,1250,1398,5031,1319,1319,1174]
[null,"- as % of revenue",0.18600000000000003,0.17199999999999999,0.16800000000000001,0.156,0.16899999999999998,0.161,0.157,0.14499999999999999,0.156,0.154,0.158,0.154,0.125]
[null,"OIBDA",3111,3696,4392,3893,15092,3942,4187,4664,4528,17321,4475,4648,4836]
[null,"OIBDA margin, %",0.54899999999999993,0.56299999999999994,0.58099999999999996,0.49200000000000005,0.54500000000000004,0.54299999999999993,0.54,0.54,0.50600000000000001,0.53100000000000003,0.53700000000000003,0.54400000000000004,0.51700000000000002]
[null,"Net profit",1531,2214,1988,2019,7752,2108,2386,2649,2211,9354,2201,2362,2738]
[null,"- margin, %",0.27,0.33700000000000002,0.26300000000000001,0.255,0.28000000000000003,0.28999999999999998,0.308,0.307,0.247,0.28699999999999998,0.26400000000000001,0.27600000000000002,0.29299999999999998]
[null,"CAPEX",477,402,582,1351,2812,814,1497,783,1201,4296,290,315,603]
[null,"CAPEX excluding purchases of 3G license",477,402,582,1351,2812,814,814,783,1201,3612,290,315,603]
[null,"- as % of revenue",8.4000000000000005E-2,6.0999999999999999E-2,7.6999999999999999E-2,0.17100000000000001,0.10199999999999999,0.11199999999999999,0.105,9.0999999999999998E-2,0.13400000000000001,0.111,3.5000000000000003E-2,3.7000000000000005E-2,6.4000000000000001E-2]
[]
[null,"Operating highlights"]
[null,"Mobile business"]
[null,"MTS subscribers, mln",5.3,5.3,5.4,5.5,5.5,5.5,5.6,5.6,5.6,5.6,5.7,5.6,5.7]
[null,"Total traffic, bln minutes",8,8.6999999999999993,8.6,8.66,33.959999999999994,8.5,9.1999999999999993,9.3000000000000007,9.3000000000000007,36.299999999999997,9.25,10.199999999999999,10.199999999999999]
[]
[null,"BYN/RUB (BYR/RUB)",0.03,0.03,{"$f":"'Ave Forex Rates'!F9","v":0.03},{"$f":"'Ave Forex Rates'!G9","v":0.03},{"$f":"'Ave Forex Rates'!H9","v":0.03},{"$f":"'Ave Forex Rates'!I9","v":0.03},{"$f":"'Ave Forex Rates'!J9","v":0.03},{"$f":"'Ave Forex Rates'!K9","v":0.03},{"$f":"'Ave Forex Rates'!L9","v":0.03},{"$f":"'Ave Forex Rates'!M9","v":0.03},{"$f":"'Ave Forex Rates'!N9","v":0.03},{"$f":"'Ave Forex Rates'!O9","v":0.03},{"$f":"'Ave Forex Rates'!P9","v":0.03}]
[]
[null,"Amounts in millions of BYN, unless stated"]
[null,"Revenue",196.42,212.89,235.9,252.92,898.13,235.68,251.37,274.77999999999997,291.14,1052.9699999999998,281.2,287.73,318.70999999999998]
[null,"Operating profit",71.459999999999994,83.18,97.82,84.73,337.19,90.04,96.38,108.64,101.62,396.68,106.67,112.04,124.86]
[null,"- operating margin, %",0.36399999999999999,0.39100000000000001,0.41499999999999998,0.33500000000000002,0.375,0.38200000000000001,0.38299999999999995,0.39500000000000002,0.34899999999999998,0.377,0.379,0.38900000000000001,0.39200000000000002]
[null,"Depreciation and amortization",36.47,36.619999999999997,39.520000000000003,39.49,152.1,37.950000000000003,39.369999999999997,39.799999999999997,45.51,162.63,44.55,44.39,39.909999999999997]
[null,"- as % of revenue",0.18600000000000003,0.17199999999999999,0.16699999999999998,0.156,0.16899999999999998,0.161,0.157,0.14499999999999999,0.156,0.154,0.158,0.154,0.125]
[null,"OIBDA",107.93,119.81,137.26,124.56,489.56,127.99,135.75,148.43,147.13,559.29999999999995,151.22,156.41999999999999,164.78]
[null,"OIBDA margin, %",0.54899999999999993,0.56299999999999994,0.58200000000000007,0.49200000000000005,0.54500000000000004,0.54299999999999993,0.54,0.54,0.505,0.53100000000000003,0.53799999999999992,0.54400000000000004,0.51700000000000002]
[null,"Net profit",53.08,71.66,61.86,64.28,250.88,68.41,77.34,84.43,71.760000000000005,301.94,74.459999999999994,79.45,93.39]
[null,"- margin %",0.27,0.33700000000000002,0.26200000000000001,0.254,0.27500000000000002,0.28999999999999998,0.308,0.307,0.24600000000000002,0.28699999999999998,0.26500000000000001,0.27600000000000002,0.29299999999999998]
[null,"CAPEX",17,13.199,18,42.591000000000008,90.79,27,49,25,40,140,10,11,21]
[null,"CAPEX excluding purchases of 3G license",17,13.199,18,42.591000000000008,90.79,27,26,25,40,118,10,11,21]
[null,"- as % of revenue",8.5000000000000006E-2,6.2E-2,7.6999999999999999E-2,0.17,0.10099999999999999,0.113,0.105,9.0999999999999998E-2,0.13600000000000001,0.11199999999999999,3.5000000000000003E-2,3.7000000000000005E-2,6.4000000000000001E-2]
[]
[]
[null,"*Due to the rounding and translation practices, Russian rubles and functional currency margins, as well as other non-IFRS financial measures, may differ."]
[]
[null,"**MTS owns a 49% stake in Mobile TeleSystems LLC, a mobile operator in Belarus, which is not consolidated"]

{"sheet":"Group reconciliations","index":8,"n_rows":50,"n_cols":13,"rows_kept":50,"cut":false,"hidden":false,"merged":[[1,2,1,5],[1,6,1,9],[1,10,1,12]]}
[]
[null,null,2018,null,null,null,2019,null,null,null,2020]
[null,"MTS Group","Q1","Q2","Q3","Q4","Q1","Q2","Q3","Q4","Q1","Q2","Q3"]
[]
[null,"Net debt, amounts in millions of RUB, unless stated"]
[null,"Current portion of LT debt",72544,60187,13940,3256,43027,68812,98672,71828,35338,12122,24032]
[null,"LT debt",218934,250327,362523,365467,344334,308368,277336,271733,388028,396749,391607]
[null,"Total debt",291478,310514,376463,368723,387361,377180,376008,343561,423366,408871,{"$f":"SUM(M6:M7)","v":415639}]
[null,"Less:"]
[null,"Cash and cash equivalents",56923,57292,101144,84075,66346,51243,52518,38070,101163,98253,82649]
[null,"ST investments",26354,52970,46354,47863,26588,15165,15700,25618,27886,25994,26547]
[null,"LT deposits",4,130,135,139,256,126,129,124,0,0,0]
[null,"SWAPs",2910,4953,1227,1077.4963534120925,788,1021,625,250,4882,0,0]
[null,"Hedge",1150,678,725,2796.6410105779719,974,-479,59,-955,4616,2100,4069]
[null,"Net debt",204137,194491,226878,232771.86263600993,292409,310104,306977,280454,284819,282524,{"$f":"M8-SUM(M10:M14)","v":302374}]
[]
[]
[null,"Financial leverage ratios"]
[null,"Shareholders' equity, RUB mln",{"$f":"'Statement of financial position'!C40","v":135814},{"$f":"'Statement of financial position'!D40","v":112510},{"$f":"'Statement of financial position'!E40","v":72042},{"$f":"'Statement of financial position'!F40","v":77565},{"$f":"'Statement of financial position'!G40","v":70724},{"$f":"'Statement of financial position'!H40","v":40538},{"$f":"'Statement of financial position'!I40","v":47647},{"$f":"'Statement of financial position'!J40","v":36394},{"$f":"'Statement of financial position'!K40","v":57559},{"$f":"'Statement of financial position'!L40","v":30778},{"$f":"'Statement of financial position'!M40","v":30276}]
[null,"Total assets, RUB mln",{"$f":"'Statement of financial position'!C35","v":702071},{"$f":"'Statement of financial position'!D35","v":752192},{"$f":"'Statement of financial position'!E35","v":907496},{"$f":"'Statement of financial position'!F35","v":915993},{"$f":"'Statement of financial position'!G35","v":870371},{"$f":"'Statement of financial position'!H35","v":863617},{"$f":"'Statement of financial position'!I35","v":882259},{"$f":"'Statement of financial position'!J35","v":823910},{"$f":"'Statement of financial position'!K35","v":924201},{"$f":"'Statement of financial position'!L35","v":902444},{"$f":"'Statement of financial position'!M35","v":904325}]
[null,"LTM adjusted OIBDA, RUB mln",190068,199979,210508,220922,224053,226255,229771,{"$f":"'Statement of profit or loss'!L58","v":210319},{"$f":"'Statement of profit or loss'!M58+'Statement of profit or loss'!K58+'Statement of profit or loss'!J58+'Statement of profit or loss'!I58","v":211137},{"$f":"'Statement of profit or loss'!N58+'Statement of profit or loss'!M58+'Statement of profit or loss'!K58+'Statement of profit or loss'!J58","v":211435},{"$f":"'Statement of profit or loss'!K58+'Statement of profit or loss'!M58+'Statement of profit or loss'!N58+'Statement of profit or loss'!O58","v":213287}]
[null,"Net debt/assets",{"$f":"ROUND(C15/C20, 1)","v":0.3},0.3,0.3,{"$f":"ROUND(F15/F20, 1)","v":0.3},{"$f":"ROUND(G15/G20, 1)","v":0.3},0.4,{"$f":"ROUND(I15/I20, 1)","v":0.3},0.3,{"$f":"ROUND(K15/K20, 1)","v":0.3},0.3,{"$f":"ROUND(M15/M20, 1)","v":0.3}]
[null,"Net debt/equity",{"$f":"ROUND(C15/C19, 1)","v":1.5},1.7,3.1,{"$f":"ROUND(F15/F19, 1)","v":3},{"$f":"ROUND(G15/G19, 1)","v":4.0999999999999996},7.6,{"$f":"ROUND(I15/I19, 1)","v":6.4},7.7,{"$f":"ROUND(K15/K19, 1)","v":4.9000000000000004},{"$f":"ROUND(L15/L19, 1)","v":9.1999999999999993},{"$f":"ROUND(M15/M19, 1)","v":10}]
[null,"Net debt/LTM adjusted OIBDA",{"$f":"ROUND(C15/C21, 1)","v":1.1000000000000001},1,1.1000000000000001,1.1000000000000001,{"$f":"ROUND(G15/G21, 1)","v":1.3},1.4,1.3,1.3,1.3,1.3,{"$f":"ROUND(M15/M21, 1)","v":1.4}]
[]
[]
[null,"Debt composition"]
[null,"By type, %"]
[null,"Credit facilities",0.55800000000000005,0.57431147462338228,0.66693792498848337,0.68123995306462315,0.67992208682190503,0.64143731934810311,0.57166337482540364,0.46391801205414546,0.52344141552224333,0.49458318492799502,0.49227922936012153]
[null,"Bonds",0.442,0.42568852537661772,0.33306207501151658,0.31876004693537685,0.32007791317809486,0.35856268065189695,0.42833662517459642,0.53608198794585449,0.47655858447775673,0.50541681507200509,0.50772077063987842]
[null,"Syndicated loan"]
[null,"By currency, %"]
[null,"RUB",0.84768313301004339,0.84819017567611621,0.90998788515609585,0.91515678239318332,0.92478396338159596,0.9247768573086742,0.92298014476922685,0.91905309602040208,0.97599999999999998,0.97499999999999998,0.96699999999999997]
[null,"USD",0.15221198943010278,0.15170783350220868,8.9945295442199522E-2,8.4783239935744381E-2,7.5173142390486516E-2,7.5189787094134763E-2,7.6993065938781038E-2,8.0946903002180146E-2,2.4E-2,2.5000000000000001E-2,3.3000000000000002E-2]
[null,"EUR",0,0,0,0,0,0,0,0,0,0,0]
[]
[]
[null,"Free cash flow, amounts in millions of RUB"]
[null,"Net cash provided by operating activities",{"$f":"'Statement of cash flows'!C43","v":35695},{"$f":"'Statement of cash flows'!D43","v":70062},{"$f":"'Statement of cash flows'!E43","v":110221},{"$f":"'Statement of cash flows'!F43","v":154390},{"$f":"'Statement of cash flows'!G43","v":-16093},{"$f":"'Statement of cash flows'!H43","v":4859},{"$f":"'Statement of cash flows'!I43","v":70252},{"$f":"'Statement of cash flows'!L43","v":106652},{"$f":"'Statement of cash flows'!M43","v":39504},{"$f":"'Statement of cash flows'!N43","v":64567},{"$f":"'Statement of cash flows'!O43","v":109127}]
[null,"Less:"]
[null,"Purchases of property, plant and equipment",{"$f":"'Statement of cash flows'!C49","v":-13096},{"$f":"'Statement of cash flows'!D49","v":-27753},{"$f":"'Statement of cash flows'!E49","v":-44660},{"$f":"'Statement of cash flows'!F49","v":-64731},{"$f":"'Statement of cash flows'!G49","v":-12457},{"$f":"'Statement of cash flows'!H49","v":-27513},{"$f":"'Statement of cash flows'!I49","v":-45000},{"$f":"'Statement of cash flows'!L49","v":-68465},{"$f":"'Statement of cash flows'!M49","v":-14361},{"$f":"'Statement of cash flows'!N49","v":-28053},{"$f":"'Statement of cash flows'!O49","v":-44588}]
[null,"Purchases of other intangible assets, excluding purchases of 3G, 4G license in Ukraine and Russia and cost to obtain contracts",{"$f":"'Statement of cash flows'!C50","v":-3574},{"$f":"'Statement of cash flows'!D50","v":-6484},{"$f":"'Statement of cash flows'!E50","v":-10758},{"$f":"'Statement of cash flows'!F50","v":-21751},{"$f":"'Statement of cash flows'!G50","v":-4157},{"$f":"'Statement of cash flows'!H50","v":-11781},{"$f":"'Statement of cash flows'!I50","v":-16087},{"$f":"'Statement of cash flows'!L50","v":-23016},{"$f":"'Statement of cash flows'!M50","v":-5844},{"$f":"'Statement of cash flows'!N50","v":-12757},{"$f":"'Statement of cash flows'!O50","v":-19594}]
[null,"Cost to obtain and fulfill contracts",{"$f":"'Statement of cash flows'!C51","v":-1099},{"$f":"'Statement of cash flows'!D51","v":-2085},{"$f":"'Statement of cash flows'!E51","v":-3524},{"$f":"'Statement of cash flows'!F51","v":-4764},{"$f":"'Statement of cash flows'!G51","v":-1093},{"$f":"'Statement of cash flows'!H51","v":-2307},{"$f":"'Statement of cash flows'!I51","v":-3692},{"$f":"'Statement of cash flows'!L51","v":-4651},{"$f":"'Statement of cash flows'!M51","v":-1188},{"$f":"'Statement of cash flows'!N51","v":-2337},{"$f":"'Statement of cash flows'!O51","v":-3745}]
[null,"Purchase of Avantage",null,null,{"$f":"'Statement of cash flows'!E53","v":-7559},{"$f":"'Statement of cash flows'!F53","v":-7559},{"$f":"'Statement of cash flows'!G53","v":0},{"$f":"'Statement of cash flows'!H53","v":0},{"$f":"'Statement of cash flows'!I53","v":0},{"$f":"'Statement of cash flows'!L53","v":0},{"$f":"'Statement of cash flows'!M53","v":0},{"$f":"'Statement of cash flows'!N53","v":-196},{"$f":"'Statement of cash flows'!O53","v":-196}]
[null,"Proceeds from sale of property, plant and equipment",{"$f":"'Statement of cash flows'!C54","v":442},{"$f":"'Statement of cash flows'!D54","v":2289},{"$f":"'Statement of cash flows'!E54","v":3924},{"$f":"'Statement of cash flows'!F54","v":5905},{"$f":"'Statement of cash flows'!G54","v":1040},{"$f":"'Statement of cash flows'!H54","v":2903},{"$f":"'Statement of cash flows'!I54","v":5067},{"$f":"'Statement of cash flows'!L54","v":6536},{"$f":"'Statement of cash flows'!M54","v":782},{"$f":"'Statement of cash flows'!N54","v":2504},{"$f":"'Statement of cash flows'!O54","v":4897}]
[null,"Proceeds from sale of subsidiaries",null,null,null,{"$f":"'Statement of cash flows'!F59","v":619},{"$f":"'Statement of cash flows'!G59","v":0},{"$f":"'Statement of cash flows'!H59","v":0},{"$f":"'Statement of cash flows'!I59","v":0},{"$f":"'Statement of cash flows'!L59","v":37386},{"$f":"'Statement of cash flows'!M59","v":0},{"$f":"'Statement of cash flows'!N59","v":0},{"$f":"'Statement of cash flows'!O59","v":2998}]
[null,"Proceeds from sale of associates",null,null,null,{"$f":"'Statement of cash flows'!F60","v":0},{"$f":"'Statement of cash flows'!G60","v":3000},{"$f":"'Statement of cash flows'!H60","v":3000},{"$f":"'Statement of cash flows'!I60","v":3067},{"$f":"'Statement of cash flows'!L60","v":3067},{"$f":"'Statement of cash flows'!M60","v":0},{"$f":"'Statement of cash flows'!N60","v":2450},{"$f":"'Statement of cash flows'!O60","v":2450}]
[null,"Investments in associates",{"$f":"'Statement of cash flows'!C57","v":-1158},{"$f":"'Statement of cash flows'!D57","v":-2101},{"$f":"'Statement of cash flows'!E57","v":-3871},{"$f":"'Statement of cash flows'!F57","v":-3871},{"$f":"'Statement of cash flows'!G57","v":0},{"$f":"'Statement of cash flows'!H57","v":0},{"$f":"'Statement of cash flows'!I57","v":0},{"$f":"'Statement of cash flows'!L57","v":-75},{"$f":"'Statement of cash flows'!M57","v":-1415},{"$f":"'Statement of cash flows'!N57","v":-1415},{"$f":"'Statement of cash flows'!O57","v":-1460}]
[null,"Acquisition of subsidiaries, net of cash acquired",{"$f":"'Statement of cash flows'!C48","v":-3286},{"$f":"'Statement of cash flows'!D48","v":-3093},{"$f":"'Statement of cash flows'!E48","v":-3458},{"$f":"'Statement of cash flows'!F48","v":-3444},{"$f":"'Statement of cash flows'!G48","v":-1639},{"$f":"'Statement of cash flows'!H48","v":-2030},{"$f":"'Statement of cash flows'!I48","v":-2052},{"$f":"'Statement of cash flows'!L48","v":-2052},{"$f":"'Statement of cash flows'!M48","v":0},{"$f":"'Statement of cash flows'!N48","v":69},{"$f":"'Statement of cash flows'!O48","v":-262}]
[null,"Free cash flow",{"$f":"SUM(C39:C49)","v":13924},30835,40315,{"$f":"SUM(F39:F49)","v":54794},{"$f":"SUM(G39:G49)","v":-31399},-32869,{"$f":"SUM(I39:I49)","v":11555},55382,{"$f":"SUM(K39:K49)","v":17478},24832,{"$f":"SUM(M39:M49)","v":49627}]

{"sheet":"Debt repayment schedule","index":9,"n_rows":11,"n_cols":8,"rows_kept":11,"cut":false,"hidden":false,"merged":[]}
[]
[null,"As of September 30, 2020","Q4 2020",2021,2022,2023,2024,"Thereafter"]
[null,"MTS Group"]
[]
[null,"Debt repayments, RUB bln",0.9,23.5,52.7,60.8,110.7,167]
[]
[null,"Maturities of major publicly traded debt instruments*"]
[null,"2023 Eurobond, USD mln***",null,null,null,500]
[]
[null,"*Amounts before discounts"]
[null,"*** MTS currently holds USD 51.7 mln worth of 2023 Eurobonds on its balance sheet"]

{"sheet":"Ave Forex Rates","index":10,"n_rows":9,"n_cols":16,"rows_kept":9,"cut":false,"hidden":false,"merged":[[3,0,8,0],[1,1,1,2],[1,3,1,7],[1,8,1,12],[1,13,1,15]]}
[]
[null,"MTS Group",null,2018,null,null,null,null,2019,null,null,null,null,2020]
[null,"Average Forex rates per country",null,"Q1","Q2","Q3","Q4","Full year","Q1","Q2","Q3","Q4","Full year","Q1","Q2","Q3"]
[]
[null,"Russia","RUB/USD",56.88,61.8,65.5,66.5,62.71,66.13,64.56,64.569999999999993,63.72,64.739999999999995,66.38,72.36,73.56]
[null,"Ukraine","UAH/RUB",0.48,0.42,0.42,0.42,0.44,0.41,0.41,0.39,0.38,0.4,0.38,0.37,0.38]
[null,"Turkmenistan","TMT/RUB",0.06,5.7000000000000002E-2,0.05,0.05,0.06,0.05,0.05,5.3999999999999999E-2,5.5E-2,5.3999999999999999E-2,5.2999999999999999E-2,4.8000000000000001E-2,4.8000000000000001E-2]
[null,"Armenia","AMD/RUB",8.4700000000000006,7.82,7.37,7.3,7.74,7.37,7.45,7.38,7.49,7.42,7.31,6.7,6.61]
[null,"Belarus","BYN/RUB",0.03,0.03,0.03,0.03,0.03,0.03,0.03,0.03,0.03,0.03,0.03,0.03,0.03]

{"sheet":"Glossary","index":11,"n_rows":2,"n_cols":7,"rows_kept":2,"cut":false,"hidden":false,"merged":[]}
[]
[null,null,null,null,null,null,"Glossary"]